BEGIN:VCALENDAR
VERSION:2.0
PRODID:-//Monterey Skates - ECPv6.15.20//NONSGML v1.0//EN
CALSCALE:GREGORIAN
METHOD:PUBLISH
X-WR-CALNAME:Monterey Skates
X-ORIGINAL-URL:https://montereyskates.com
X-WR-CALDESC:Events for Monterey Skates
REFRESH-INTERVAL;VALUE=DURATION:PT1H
X-Robots-Tag:noindex
X-PUBLISHED-TTL:PT1H
BEGIN:VTIMEZONE
TZID:America/Los_Angeles
BEGIN:DAYLIGHT
TZOFFSETFROM:-0800
TZOFFSETTO:-0700
TZNAME:PDT
DTSTART:20240310T100000
END:DAYLIGHT
BEGIN:STANDARD
TZOFFSETFROM:-0700
TZOFFSETTO:-0800
TZNAME:PST
DTSTART:20241103T090000
END:STANDARD
BEGIN:DAYLIGHT
TZOFFSETFROM:-0800
TZOFFSETTO:-0700
TZNAME:PDT
DTSTART:20250309T100000
END:DAYLIGHT
BEGIN:STANDARD
TZOFFSETFROM:-0700
TZOFFSETTO:-0800
TZNAME:PST
DTSTART:20251102T090000
END:STANDARD
BEGIN:DAYLIGHT
TZOFFSETFROM:-0800
TZOFFSETTO:-0700
TZNAME:PDT
DTSTART:20260308T100000
END:DAYLIGHT
BEGIN:STANDARD
TZOFFSETFROM:-0700
TZOFFSETTO:-0800
TZNAME:PST
DTSTART:20261101T090000
END:STANDARD
END:VTIMEZONE
BEGIN:VEVENT
DTSTART;TZID=America/Los_Angeles:20250620T180000
DTEND;TZID=America/Los_Angeles:20250620T200000
DTSTAMP:20260421T152042
CREATED:20250523T031225Z
LAST-MODIFIED:20250523T040543Z
UID:10000002-1750442400-1750449600@montereyskates.com
SUMMARY:Friday Night Family Skate | June 20 | 6pm – 8pm
DESCRIPTION:Kick off off grand opening weekend with some good old-fashioned fun at our Friday Night Family Skate! This all-ages session is perfect for kids\, parents\, grandparents\, and anyone who wants to roll into the weekend with great music\, colorful lights\, and plenty of smiles. Whether you’re a seasoned skater or just finding your balance\, our friendly team and Skate Mates (available for rental) are here to help. Enjoy our snack bar\, snap a pic at our selfie station\, and make memories that roll! \n🎟️ Open to all ages | 🎶 Family-friendly music | 🛼 Rental skates available! \nSave time at the door and sign the waiver!\nOn the day of the event\, street parking is available on Fairground Road. Enter the Fairgrounds using Gate 5 and look for the Monterey Skates truck\, which will be parked just outside the King City building. Doors open 10 minutes before a session.
URL:https://montereyskates.com/event/friday-night-family-skate-june-20-6pm-8pm/
LOCATION:Monterey Fairgrounds King City Building\, 2004 Fairground Road\, Monterey\, CA\, 93940\, United States
CATEGORIES:Session
ATTACH;FMTTYPE=image/jpeg:https://montereyskates.com/wp-content/uploads/sites/36/2025/05/Friday-night-family.jpg
ORGANIZER;CN="Monterey Skates":MAILTO:info@montereyskates.com
END:VEVENT
BEGIN:VEVENT
DTSTART;TZID=America/Los_Angeles:20250620T200000
DTEND;TZID=America/Los_Angeles:20250620T230000
DTSTAMP:20260421T152042
CREATED:20250523T032313Z
LAST-MODIFIED:20250523T040752Z
UID:10000003-1750449600-1750460400@montereyskates.com
SUMMARY:Friday Night Open Skate | June 20 | 8pm – 11pm
DESCRIPTION:The lights go low\, the music turns up\, and the weekend officially begins! Our Friday Night Open Skate is the perfect way to roll into the night with your crew. While still family-friendly\, this session is especially popular with teens\, young adults\, and anyone looking for a high-energy skating experience. Expect fun lighting effects\, great beats\, and a lively vibe—whether you’re cruising with friends\, dancing on wheels\, or just soaking in the scene. \n🕖 Time: 8:00 PM – 11:00 PM \n🎟️ All ages welcome | 🎶 Clean hits with a party vibe | 🛼 Rental skates available! \nSave time at the door and sign the waiver!\nOn the day of the event\, street parking is available on Fairground Road. Enter the Fairgrounds using Gate 5 and look for the Monterey Skates truck\, which will be parked just outside the King City building. Doors open 10 minutes before a session.
URL:https://montereyskates.com/event/friday-night-open-skate-june-20-8pm-11pm/
LOCATION:Monterey Fairgrounds King City Building\, 2004 Fairground Road\, Monterey\, CA\, 93940\, United States
CATEGORIES:Session
ATTACH;FMTTYPE=image/jpeg:https://montereyskates.com/wp-content/uploads/sites/36/2025/05/Friday-night-open.jpg
ORGANIZER;CN="Monterey Skates":MAILTO:info@montereyskates.com
END:VEVENT
END:VCALENDAR