BEGIN:VCALENDAR
VERSION:2.0
PRODID:-//Monterey Skates - ECPv6.15.20//NONSGML v1.0//EN
CALSCALE:GREGORIAN
METHOD:PUBLISH
X-WR-CALNAME:Monterey Skates
X-ORIGINAL-URL:https://montereyskates.com
X-WR-CALDESC:Events for Monterey Skates
REFRESH-INTERVAL;VALUE=DURATION:PT1H
X-Robots-Tag:noindex
X-PUBLISHED-TTL:PT1H
BEGIN:VTIMEZONE
TZID:America/Los_Angeles
BEGIN:DAYLIGHT
TZOFFSETFROM:-0800
TZOFFSETTO:-0700
TZNAME:PDT
DTSTART:20240310T100000
END:DAYLIGHT
BEGIN:STANDARD
TZOFFSETFROM:-0700
TZOFFSETTO:-0800
TZNAME:PST
DTSTART:20241103T090000
END:STANDARD
BEGIN:DAYLIGHT
TZOFFSETFROM:-0800
TZOFFSETTO:-0700
TZNAME:PDT
DTSTART:20250309T100000
END:DAYLIGHT
BEGIN:STANDARD
TZOFFSETFROM:-0700
TZOFFSETTO:-0800
TZNAME:PST
DTSTART:20251102T090000
END:STANDARD
BEGIN:DAYLIGHT
TZOFFSETFROM:-0800
TZOFFSETTO:-0700
TZNAME:PDT
DTSTART:20260308T100000
END:DAYLIGHT
BEGIN:STANDARD
TZOFFSETFROM:-0700
TZOFFSETTO:-0800
TZNAME:PST
DTSTART:20261101T090000
END:STANDARD
END:VTIMEZONE
BEGIN:VEVENT
DTSTART;TZID=America/Los_Angeles:20250705T100000
DTEND;TZID=America/Los_Angeles:20250705T120000
DTSTAMP:20260421T094839
CREATED:20250626T041403Z
LAST-MODIFIED:20250626T044056Z
UID:10000142-1751709600-1751716800@montereyskates.com
SUMMARY:Saturday Morning Kids Skate 10am - 12pm (July 5\, 2025)
DESCRIPTION:Start the 4th of July weekend with big smiles and little wheels! Our Saturday Morning Kids Skate is designed just for young skaters\, with music they’ll love\, a safe and supportive atmosphere\, and tons of skating games throughout the session. We’ll be playing classic rink games like Red Light\, Green Light\, Limbo\, and the Hokey Pokey\, and more! Whether your child is brand new to skating or already rolling strong\, this session is the perfect place to build confidence and have a blast. Rental skates will be available and our snack bar will be open.
URL:https://montereyskates.com/event/saturday-morning-kids-skate-10am-12pm-july-5-2025/
LOCATION:Monterey Fairgrounds King City Building\, 2004 Fairground Road\, Monterey\, CA\, 93940\, United States
CATEGORIES:Session
ATTACH;FMTTYPE=image/jpeg:https://montereyskates.com/wp-content/uploads/sites/36/2025/05/Saturday-kids.jpg
ORGANIZER;CN="Monterey Skates":MAILTO:info@montereyskates.com
END:VEVENT
BEGIN:VEVENT
DTSTART;TZID=America/Los_Angeles:20250705T120000
DTEND;TZID=America/Los_Angeles:20250705T123000
DTSTAMP:20260421T094839
CREATED:20250626T041418Z
LAST-MODIFIED:20251021T172436Z
UID:10000148-1751716800-1751718600@montereyskates.com
SUMMARY:Saturday Kids Skating Lesson 12pm - 12:30pm (July 5\, 2025)
DESCRIPTION:This lesson is designed for those 12 and under. Whether you’re a beginner finding your balance or a skater looking to improve your skills\, our first Saturday Skating Lesson is the perfect place to level up. Held right after the Saturday Morning Kids Skate\, this half-hour-long lesson provides guidance\, tips\, and encouragement in a relaxed\, supportive environment. Your instructor will be Scarlett Aamodt\, a certified personal trainer\, skate instructor\, and hockey coach. Protective gear (helmet\, knee\, elbow\, and wrist) required and available for sale. The lesson includes admission to the family skate from 1pm-4pm that follows.
URL:https://montereyskates.com/event/saturday-kids-skating-lesson-12pm-1230pm-july-5-2025/
LOCATION:Monterey Fairgrounds King City Building\, 2004 Fairground Road\, Monterey\, CA\, 93940\, United States
CATEGORIES:Lesson
ATTACH;FMTTYPE=image/jpeg:https://montereyskates.com/wp-content/uploads/sites/36/2025/06/Saturday-kids-skate-lesson.jpg
ORGANIZER;CN="Monterey Skates":MAILTO:info@montereyskates.com
END:VEVENT
BEGIN:VEVENT
DTSTART;TZID=America/Los_Angeles:20250705T123000
DTEND;TZID=America/Los_Angeles:20250705T130000
DTSTAMP:20260421T094839
CREATED:20250626T041437Z
LAST-MODIFIED:20251021T172434Z
UID:10000154-1751718600-1751720400@montereyskates.com
SUMMARY:Saturday Adult Skating Lesson 12:30pm - 1pm (July 5\, 2025)
DESCRIPTION:This lesson is designed for those 13 and over. Whether you’re a beginner finding your balance or a skater looking to improve your skills\, our second Saturday Skating Lesson is the perfect place to level up. Held before the Saturday Afternoon Family Skate\, this half-hour-long lesson provides guidance\, tips\, and encouragement in a relaxed\, supportive environment. Your instructor will be Scarlett Aamodt\, a certified personal trainer\, skate instructor\, and hockey coach. Protective gear (helmet\, knee\, elbow\, and wrist) required and available for sale. The lesson includes admission to the family skate from 1pm-4pm that follows.
URL:https://montereyskates.com/event/saturday-adult-skating-lesson-1230pm-1pm-july-5-2025/
LOCATION:Monterey Fairgrounds King City Building\, 2004 Fairground Road\, Monterey\, CA\, 93940\, United States
CATEGORIES:Lesson
ATTACH;FMTTYPE=image/jpeg:https://montereyskates.com/wp-content/uploads/sites/36/2025/06/Saturday-adult-skate-lesson.jpg
ORGANIZER;CN="Monterey Skates":MAILTO:info@montereyskates.com
END:VEVENT
BEGIN:VEVENT
DTSTART;TZID=America/Los_Angeles:20250705T130000
DTEND;TZID=America/Los_Angeles:20250705T160000
DTSTAMP:20260421T094839
CREATED:20250626T041453Z
LAST-MODIFIED:20250626T044159Z
UID:10000160-1751720400-1751731200@montereyskates.com
SUMMARY:Saturday Afternoon Family Skate 1pm - 4pm (July 5\, 2025)
DESCRIPTION:Looking for the perfect way to continue your July 4th weekend celebration? Consider our Saturday Afternoon Family Skate\, a fun and relaxed session for all ages! We’ll keep the energy high with upbeat\, mainstream music that everyone can enjoy—from current hits to crowd-pleasing classics. While not as game-packed as our Saturday morning kids session\, we’ll still sprinkle in a few skating games throughout the afternoon to keep things lively. It’s a great time to cruise the floor\, practice your moves\, or just enjoy the atmosphere with friends and family.
URL:https://montereyskates.com/event/saturday-afternoon-family-skate-1pm-4pm-july-5-2025/
LOCATION:Monterey Fairgrounds King City Building\, 2004 Fairground Road\, Monterey\, CA\, 93940\, United States
CATEGORIES:Session
ATTACH;FMTTYPE=image/jpeg:https://montereyskates.com/wp-content/uploads/sites/36/2025/05/Saturday-afternoon-family.jpg
ORGANIZER;CN="Monterey Skates":MAILTO:info@montereyskates.com
END:VEVENT
BEGIN:VEVENT
DTSTART;TZID=America/Los_Angeles:20250705T170000
DTEND;TZID=America/Los_Angeles:20250705T190000
DTSTAMP:20260421T094839
CREATED:20250626T041559Z
LAST-MODIFIED:20250626T044252Z
UID:10000166-1751734800-1751742000@montereyskates.com
SUMMARY:Saturday Evening Family Skate 5pm - 7pm (July 5\, 2025)
DESCRIPTION:Continue your July 4th celebreation at our Saturday Evening Family Skate\, a high-energy session that’s fun for all ages! With upbeat music\, colorful lights\, and a welcoming vibe\, this session is the perfect way to spend quality time together. Whether you’re gliding hand-in-hand with little ones or dancing on wheels with your teens\, everyone’s invited to roll into the evening. Enjoy our snack bar\, snap a pic at our selfie station\, and make memories that roll!
URL:https://montereyskates.com/event/saturday-evening-family-skate-5pm-7pm-july-5-2025/
LOCATION:Monterey Fairgrounds King City Building\, 2004 Fairground Road\, Monterey\, CA\, 93940\, United States
CATEGORIES:Session
ATTACH;FMTTYPE=image/jpeg:https://montereyskates.com/wp-content/uploads/sites/36/2025/06/Saturday-night-family.jpg
ORGANIZER;CN="Monterey Skates":MAILTO:info@montereyskates.com
END:VEVENT
BEGIN:VEVENT
DTSTART;TZID=America/Los_Angeles:20250705T190000
DTEND;TZID=America/Los_Angeles:20250705T220000
DTSTAMP:20260421T094839
CREATED:20250626T041616Z
LAST-MODIFIED:20250626T044334Z
UID:10000172-1751742000-1751752800@montereyskates.com
SUMMARY:Saturday Night Open Skate 7pm - 10pm (July 5\, 2025)
DESCRIPTION:It’s Saturday night! Why not join us for our Saturday Night Open Skate\, a high-energy session perfect for teens\, young adults\, and anyone who loves rolling to the rhythm. With great music\, colorful lights\, and a fun\, welcoming atmosphere\, this session brings the weekend vibes full force. Whether you’re showing off your footwork\, cruising with friends\, or skating for the first time\, everyone is welcome!
URL:https://montereyskates.com/event/saturday-night-open-skate-7pm-10pm-july-5-2025/
LOCATION:Monterey Fairgrounds King City Building\, 2004 Fairground Road\, Monterey\, CA\, 93940\, United States
CATEGORIES:Session
ATTACH;FMTTYPE=image/jpeg:https://montereyskates.com/wp-content/uploads/sites/36/2025/05/Saturday-night-open.jpg
ORGANIZER;CN="Monterey Skates":MAILTO:info@montereyskates.com
END:VEVENT
END:VCALENDAR