BEGIN:VCALENDAR
VERSION:2.0
PRODID:-//Monterey Skates - ECPv6.15.20//NONSGML v1.0//EN
CALSCALE:GREGORIAN
METHOD:PUBLISH
X-ORIGINAL-URL:https://montereyskates.com
X-WR-CALDESC:Events for Monterey Skates
REFRESH-INTERVAL;VALUE=DURATION:PT1H
X-Robots-Tag:noindex
X-PUBLISHED-TTL:PT1H
BEGIN:VTIMEZONE
TZID:America/Los_Angeles
BEGIN:DAYLIGHT
TZOFFSETFROM:-0800
TZOFFSETTO:-0700
TZNAME:PDT
DTSTART:20240310T100000
END:DAYLIGHT
BEGIN:STANDARD
TZOFFSETFROM:-0700
TZOFFSETTO:-0800
TZNAME:PST
DTSTART:20241103T090000
END:STANDARD
BEGIN:DAYLIGHT
TZOFFSETFROM:-0800
TZOFFSETTO:-0700
TZNAME:PDT
DTSTART:20250309T100000
END:DAYLIGHT
BEGIN:STANDARD
TZOFFSETFROM:-0700
TZOFFSETTO:-0800
TZNAME:PST
DTSTART:20251102T090000
END:STANDARD
BEGIN:DAYLIGHT
TZOFFSETFROM:-0800
TZOFFSETTO:-0700
TZNAME:PDT
DTSTART:20260308T100000
END:DAYLIGHT
BEGIN:STANDARD
TZOFFSETFROM:-0700
TZOFFSETTO:-0800
TZNAME:PST
DTSTART:20261101T090000
END:STANDARD
END:VTIMEZONE
BEGIN:VEVENT
DTSTART;TZID=America/Los_Angeles:20251024T170000
DTEND;TZID=America/Los_Angeles:20251024T210000
DTSTAMP:20260421T041659
CREATED:20250626T041335Z
LAST-MODIFIED:20251016T175432Z
UID:10000133-1761325200-1761339600@montereyskates.com
SUMMARY:Friday Evening All Skate 5pm - 9pm (October 24\, 2025)
DESCRIPTION:Kick off your weekend with some good spooky fun at our Halloween-themed Friday Night All Skate! This all-ages session is perfect for kids\, teens\, parents\, grandparents\, and anyone who wants to roll into the weekend with great music\, colorful lights\, and plenty of smiles. Whether you’re a seasoned skater or just finding your balance\, our friendly team are here to help. Enjoy our snack bar\, snap a pic at our selfie station\, and make memories that roll! \nThis session is going to be spooky good fun\, and if you come dressed in a costume\, you’ll be entered into a raffle to win a prize: \n\n🥇 1st Prize: Birthday Party (for you + 9 guests)\n🥈 2nd Prize: Monterey Skates T-Shirt (we have both kids and adult shirts)\n🥉 3rd Prize: Snack bar treat (beverage and snack)\n\nAnd the best part\, everyone in a costume will also receive a Halloween goodie bag!
URL:https://montereyskates.com/event/friday-evening-all-skate-5pm-9pm-october-24-2025/
LOCATION:Monterey Fairgrounds King City Building\, 2004 Fairground Road\, Monterey\, CA\, 93940\, United States
CATEGORIES:Session
ATTACH;FMTTYPE=image/jpeg:https://montereyskates.com/wp-content/uploads/sites/36/2025/06/Halloween-2025-1.jpg
ORGANIZER;CN="Monterey Skates":MAILTO:info@montereyskates.com
END:VEVENT
END:VCALENDAR