BEGIN:VCALENDAR
VERSION:2.0
PRODID:-//Monterey Skates - ECPv6.15.20//NONSGML v1.0//EN
CALSCALE:GREGORIAN
METHOD:PUBLISH
X-WR-CALNAME:Monterey Skates
X-ORIGINAL-URL:https://montereyskates.com
X-WR-CALDESC:Events for Monterey Skates
REFRESH-INTERVAL;VALUE=DURATION:PT1H
X-Robots-Tag:noindex
X-PUBLISHED-TTL:PT1H
BEGIN:VTIMEZONE
TZID:America/Los_Angeles
BEGIN:DAYLIGHT
TZOFFSETFROM:-0800
TZOFFSETTO:-0700
TZNAME:PDT
DTSTART:20240310T100000
END:DAYLIGHT
BEGIN:STANDARD
TZOFFSETFROM:-0700
TZOFFSETTO:-0800
TZNAME:PST
DTSTART:20241103T090000
END:STANDARD
BEGIN:DAYLIGHT
TZOFFSETFROM:-0800
TZOFFSETTO:-0700
TZNAME:PDT
DTSTART:20250309T100000
END:DAYLIGHT
BEGIN:STANDARD
TZOFFSETFROM:-0700
TZOFFSETTO:-0800
TZNAME:PST
DTSTART:20251102T090000
END:STANDARD
BEGIN:DAYLIGHT
TZOFFSETFROM:-0800
TZOFFSETTO:-0700
TZNAME:PDT
DTSTART:20260308T100000
END:DAYLIGHT
BEGIN:STANDARD
TZOFFSETFROM:-0700
TZOFFSETTO:-0800
TZNAME:PST
DTSTART:20261101T090000
END:STANDARD
END:VTIMEZONE
BEGIN:VEVENT
DTSTART;TZID=America/Los_Angeles:20251025T120000
DTEND;TZID=America/Los_Angeles:20251025T130000
DTSTAMP:20260421T041427
CREATED:20250626T041432Z
LAST-MODIFIED:20251021T205755Z
UID:10000151-1761393600-1761397200@montereyskates.com
SUMMARY:Saturday Kids Skating Lesson 12pm - 1pm (October 25\, 2025)
DESCRIPTION:POSTPONED – Scarlett is unavailable this Saturday but will be back on November 8th! \nThis lesson is designed for those 12 and under. Whether you’re a beginner finding your balance or a skater looking to improve your skills\, our Saturday Skating Lesson is the perfect place to level up. Held right after the Saturday Morning Kids Skate\, this hour-long lesson provides guidance\, tips\, and encouragement in a relaxed\, supportive environment. Your instructor will be Scarlett Aamodt\, a certified personal trainer\, skate instructor\, and hockey coach. Protective gear (helmet\, knee\, elbow\, and wrist) required and available for sale. The lesson includes admission to the family skate from 1pm-4pm that follows.
URL:https://montereyskates.com/event/saturday-kids-skating-lesson-12pm-1pm-october-25-2025/
LOCATION:Monterey Fairgrounds King City Building\, 2004 Fairground Road\, Monterey\, CA\, 93940\, United States
CATEGORIES:Lesson
ATTACH;FMTTYPE=image/jpeg:https://montereyskates.com/wp-content/uploads/sites/36/2025/06/Saturday-kids-skate-lesson.jpg
ORGANIZER;CN="Monterey Skates":MAILTO:info@montereyskates.com
END:VEVENT
BEGIN:VEVENT
DTSTART;TZID=America/Los_Angeles:20251025T130000
DTEND;TZID=America/Los_Angeles:20251025T160000
DTSTAMP:20260421T041427
CREATED:20250626T041547Z
LAST-MODIFIED:20251016T175412Z
UID:10000163-1761397200-1761408000@montereyskates.com
SUMMARY:Saturday Afternoon Family Skate 1pm - 4pm (October 24\, 2025)
DESCRIPTION:Looking for the perfect weekend outing? Consider our Halloween-themed Saturday Afternoon Family Skate\, a fun and relaxed session for all ages! We’ll keep the energy high with upbeat\, mainstream music that everyone can enjoy—from current hits to crowd-pleasing classics. We’ll still sprinkle in a few skating games throughout the afternoon to keep things lively. It’s a great time to cruise the floor\, practice your moves\, or just enjoy the atmosphere with friends and family. \nWe’ll be playing spooky music\, offering special Halloween-themed snacks and beverages\, and more! If you come dressed in a costume\, you’ll be entered into a raffle to win a prize: \n\n🥇 1st Prize: Birthday Party (for you + 9 guests)\n🥈 2nd Prize: Monterey Skates T-Shirt (we have both kids and adult shirts)\n🥉 3rd Prize: Snack bar treat (beverage and snack)\n\nAnd the best part\, everyone in a costume will also receive a Halloween goodie bag!
URL:https://montereyskates.com/event/saturday-afternoon-family-skate-1pm-4pm-october-24-2025/
LOCATION:Monterey Fairgrounds King City Building\, 2004 Fairground Road\, Monterey\, CA\, 93940\, United States
CATEGORIES:Session
ATTACH;FMTTYPE=image/jpeg:https://montereyskates.com/wp-content/uploads/sites/36/2025/06/Halloween-2025-1.jpg
ORGANIZER;CN="Monterey Skates":MAILTO:info@montereyskates.com
END:VEVENT
BEGIN:VEVENT
DTSTART;TZID=America/Los_Angeles:20251025T190000
DTEND;TZID=America/Los_Angeles:20251025T220000
DTSTAMP:20260421T041427
CREATED:20250626T041621Z
LAST-MODIFIED:20251016T175844Z
UID:10000175-1761418800-1761429600@montereyskates.com
SUMMARY:Saturday Night Open Skate 7pm - 10pm (October 25\, 2025)
DESCRIPTION:It’s Saturday night! Why not join us for our Saturday Night Open Skate\, a high-energy session perfect for teens\, young adults\, and anyone who loves rolling to the rhythm. With great music\, colorful lights\, and a fun\, welcoming atmosphere\, this session brings the weekend vibes full force. Whether you’re showing off your footwork\, cruising with friends\, or skating for the first time\, everyone is welcome! \nPlease note that for all October public skating sessions\, you can dress up in your favorite Halloween costume\, just make sure you can safely skate! We’ll be playing spooky music\, offering special Halloween-themed snacks and beverages\, and more! Don’t miss out on our Halloween celebration!
URL:https://montereyskates.com/event/saturday-night-open-skate-7pm-10pm-october-25-2025/
LOCATION:Monterey Fairgrounds King City Building\, 2004 Fairground Road\, Monterey\, CA\, 93940\, United States
CATEGORIES:Session
ATTACH;FMTTYPE=image/jpeg:https://montereyskates.com/wp-content/uploads/sites/36/2025/06/Halloween-adult-2025.jpg
ORGANIZER;CN="Monterey Skates":MAILTO:info@montereyskates.com
END:VEVENT
END:VCALENDAR