BEGIN:VCALENDAR
VERSION:2.0
PRODID:-//Monterey Skates - ECPv6.15.20//NONSGML v1.0//EN
CALSCALE:GREGORIAN
METHOD:PUBLISH
X-WR-CALNAME:Monterey Skates
X-ORIGINAL-URL:https://montereyskates.com
X-WR-CALDESC:Events for Monterey Skates
REFRESH-INTERVAL;VALUE=DURATION:PT1H
X-Robots-Tag:noindex
X-PUBLISHED-TTL:PT1H
BEGIN:VTIMEZONE
TZID:America/Los_Angeles
BEGIN:DAYLIGHT
TZOFFSETFROM:-0800
TZOFFSETTO:-0700
TZNAME:PDT
DTSTART:20240310T100000
END:DAYLIGHT
BEGIN:STANDARD
TZOFFSETFROM:-0700
TZOFFSETTO:-0800
TZNAME:PST
DTSTART:20241103T090000
END:STANDARD
BEGIN:DAYLIGHT
TZOFFSETFROM:-0800
TZOFFSETTO:-0700
TZNAME:PDT
DTSTART:20250309T100000
END:DAYLIGHT
BEGIN:STANDARD
TZOFFSETFROM:-0700
TZOFFSETTO:-0800
TZNAME:PST
DTSTART:20251102T090000
END:STANDARD
BEGIN:DAYLIGHT
TZOFFSETFROM:-0800
TZOFFSETTO:-0700
TZNAME:PDT
DTSTART:20260308T100000
END:DAYLIGHT
BEGIN:STANDARD
TZOFFSETFROM:-0700
TZOFFSETTO:-0800
TZNAME:PST
DTSTART:20261101T090000
END:STANDARD
END:VTIMEZONE
BEGIN:VEVENT
DTSTART;TZID=America/Los_Angeles:20251026T120000
DTEND;TZID=America/Los_Angeles:20251026T130000
DTSTAMP:20260421T095229
CREATED:20250626T041439Z
LAST-MODIFIED:20251021T172526Z
UID:10000155-1761480000-1761483600@montereyskates.com
SUMMARY:Sunday Adult Skating Lesson 12:00pm - 1pm (October 26\, 2025)
DESCRIPTION:This lesson is designed for those 13 and over. Whether you’re a beginner finding your balance or a skater looking to improve your skills\, our Sunday Adult Skating Lesson is the perfect place to level up. Held before the Sunday Afternoon Family Skate\, this half-long lesson provides guidance\, tips\, and encouragement in a relaxed\, supportive environment. Your instructor will be Scarlett Aamodt\, a certified personal trainer\, skate instructor\, and hockey coach. Protective gear (helmet\, knee\, elbow\, and wrist) required and available for sale. The lesson includes admission to the family skate from 1pm-4pm that follows.
URL:https://montereyskates.com/event/sunday-adult-skating-lesson-1200pm-1pm-october-26-2025/
LOCATION:Monterey Fairgrounds King City Building\, 2004 Fairground Road\, Monterey\, CA\, 93940\, United States
CATEGORIES:Lesson
ATTACH;FMTTYPE=image/jpeg:https://montereyskates.com/wp-content/uploads/sites/36/2025/06/Sunday-adult-lesson.jpg
ORGANIZER;CN="Monterey Skates":MAILTO:info@montereyskates.com
END:VEVENT
BEGIN:VEVENT
DTSTART;TZID=America/Los_Angeles:20251026T130000
DTEND;TZID=America/Los_Angeles:20251026T160000
DTSTAMP:20260421T095229
CREATED:20250626T041706Z
LAST-MODIFIED:20251016T175407Z
UID:10000181-1761483600-1761494400@montereyskates.com
SUMMARY:Sunday Afternoon Family Skate 1pm - 4pm (October 26\, 2025)
DESCRIPTION:Wrap up the weekend with some quality time on wheels at our Halloween-themed Sunday Afternoon Family Skate! This easygoing session is perfect for families looking to laugh\, move\, and roll together before the school/work week begins again. We’ll spin a mix of upbeat\, feel-good music that everyone can enjoy\, with a few fun skating games sprinkled in to keep things lively. It’s a great way to make Sunday memories—whether you’re cruising hand-in-hand or cheering from the sidelines with a snack in hand. \nWe’ll be playing spooky music\, offering special Halloween-themed snacks and beverages\, and more! If you come dressed in a costume\, you’ll be entered into a raffle to win a prize: \n\n🥇 1st Prize: Birthday Party (for you + 9 guests)\n🥈 2nd Prize: Monterey Skates T-Shirt (we have both kids and adult shirts)\n🥉 3rd Prize: Snack bar treat (beverage and snack)\n\nAnd the best part\, everyone in a costume will also receive a Halloween goodie bag!
URL:https://montereyskates.com/event/sunday-afternoon-family-skate-1pm-4pm-october-26-2025/
LOCATION:Monterey Fairgrounds King City Building\, 2004 Fairground Road\, Monterey\, CA\, 93940\, United States
CATEGORIES:Session
ATTACH;FMTTYPE=image/jpeg:https://montereyskates.com/wp-content/uploads/sites/36/2025/06/Halloween-2025-1.jpg
ORGANIZER;CN="Monterey Skates":MAILTO:info@montereyskates.com
END:VEVENT
BEGIN:VEVENT
DTSTART;TZID=America/Los_Angeles:20251026T190000
DTEND;TZID=America/Los_Angeles:20251026T220000
DTSTAMP:20260421T095229
CREATED:20250626T041723Z
LAST-MODIFIED:20251016T181603Z
UID:10000187-1761505200-1761516000@montereyskates.com
SUMMARY:Sunday Night Glide 7pm - 10pm (October 26\, 2025)
DESCRIPTION:Close out the weekend your way—with smooth moves\, clean grooves\, and grown-up skate vibes at our Sunday Night Glide Adults-Only Skate. This 18+ session is for adults who want to roll\, vibe\, and unwind to a hand-picked soundtrack of funk\, disco\, house\, and throwback favorites. The lights are low\, the energy is high\, and the floor is yours—whether you’re skating solo\, linking up with friends\, or showing off your signature style. This event is co-hosted with Pop & Hiss\, and they’ll be sending three DJs to keep you in the groove: Alex Ramirez and Daniel T (Pop & Hiss) and Julianna Bach (KCHUNG Radio) with a set from DJ Traps! \nPlease note that for all October public skating sessions\, you can dress up in your favorite Halloween costume\, just make sure you can safely skate! We’ll be playing spooky music\, offering special Halloween-themed snacks and beverages\, and more! Don’t miss out on our Halloween celebration!
URL:https://montereyskates.com/event/sunday-night-glide-7pm-10pm-october-26-2025/
LOCATION:Monterey Fairgrounds King City Building\, 2004 Fairground Road\, Monterey\, CA\, 93940\, United States
CATEGORIES:Session
ATTACH;FMTTYPE=image/jpeg:https://montereyskates.com/wp-content/uploads/sites/36/2025/06/Sunday-Night-Glide.jpg
ORGANIZER;CN="Monterey Skates":MAILTO:info@montereyskates.com
END:VEVENT
END:VCALENDAR