BEGIN:VCALENDAR
VERSION:2.0
PRODID:-//Monterey Skates - ECPv6.15.20//NONSGML v1.0//EN
CALSCALE:GREGORIAN
METHOD:PUBLISH
X-ORIGINAL-URL:https://montereyskates.com
X-WR-CALDESC:Events for Monterey Skates
REFRESH-INTERVAL;VALUE=DURATION:PT1H
X-Robots-Tag:noindex
X-PUBLISHED-TTL:PT1H
BEGIN:VTIMEZONE
TZID:America/Los_Angeles
BEGIN:DAYLIGHT
TZOFFSETFROM:-0800
TZOFFSETTO:-0700
TZNAME:PDT
DTSTART:20240310T100000
END:DAYLIGHT
BEGIN:STANDARD
TZOFFSETFROM:-0700
TZOFFSETTO:-0800
TZNAME:PST
DTSTART:20241103T090000
END:STANDARD
BEGIN:DAYLIGHT
TZOFFSETFROM:-0800
TZOFFSETTO:-0700
TZNAME:PDT
DTSTART:20250309T100000
END:DAYLIGHT
BEGIN:STANDARD
TZOFFSETFROM:-0700
TZOFFSETTO:-0800
TZNAME:PST
DTSTART:20251102T090000
END:STANDARD
BEGIN:DAYLIGHT
TZOFFSETFROM:-0800
TZOFFSETTO:-0700
TZNAME:PDT
DTSTART:20260308T100000
END:DAYLIGHT
BEGIN:STANDARD
TZOFFSETFROM:-0700
TZOFFSETTO:-0800
TZNAME:PST
DTSTART:20261101T090000
END:STANDARD
END:VTIMEZONE
BEGIN:VEVENT
DTSTART;TZID=America/Los_Angeles:20251206T120000
DTEND;TZID=America/Los_Angeles:20251206T130000
DTSTAMP:20260420T175633
CREATED:20250626T041435Z
LAST-MODIFIED:20251119T043946Z
UID:10000153-1765022400-1765026000@montereyskates.com
SUMMARY:Saturday Kids Skating Lesson 12pm - 1pm (December 6\, 2025)
DESCRIPTION:This lesson is designed for those 12 and under. Whether you’re a beginner finding your balance or a skater looking to improve your skills\, our Saturday Skating Lesson is the perfect place to level up. This hour-long lesson provides guidance\, tips\, and encouragement in a relaxed\, supportive environment. Your instructor will be Scarlett Aamodt\, a certified personal trainer\, skate instructor\, and hockey coach. \n\nProtective gear (helmet\, knee\, elbow\, and wrist) required and available for sale.\nThe lesson includes admission to the family skate from 1pm-4pm that follows.\n\nOn the day of the event\, street parking is available on Fairground Road. Enter the Fairgrounds using Gate 5 and look for the Monterey Skates signs\, which will direct you to the King City building. Doors open 10 minutes before a session.
URL:https://montereyskates.com/event/saturday-kids-skating-lesson-12pm-1pm-december-6-2025/
LOCATION:Monterey Fairgrounds King City Building\, 2004 Fairground Road\, Monterey\, CA\, 93940\, United States
CATEGORIES:Lesson
ATTACH;FMTTYPE=image/jpeg:https://montereyskates.com/wp-content/uploads/sites/36/2025/08/Saturday-kids-skate-lesson.jpg
ORGANIZER;CN="Monterey Skates":MAILTO:info@montereyskates.com
END:VEVENT
BEGIN:VEVENT
DTSTART;TZID=America/Los_Angeles:20251206T130000
DTEND;TZID=America/Los_Angeles:20251206T160000
DTSTAMP:20260420T175633
CREATED:20250626T041550Z
LAST-MODIFIED:20251119T044207Z
UID:10000165-1765026000-1765036800@montereyskates.com
SUMMARY:Saturday Afternoon Family Skate 1pm - 4pm (December 6\, 2025)
DESCRIPTION:Looking for the perfect weekend outing? Consider our Saturday Afternoon Family Skate\, a fun and relaxed session for all ages! We’ll keep the energy high with upbeat\, mainstream music that everyone can enjoy—from current hits to crowd-pleasing classics. While not as game-packed as our Saturday morning kids session\, we’ll still sprinkle in a few skating games throughout the afternoon to keep things lively. It’s a great time to cruise the floor\, practice your moves\, or just enjoy the atmosphere with friends and family. \n\n🎶 Family-friendly upbeat music — songs that keep all ages rolling\n✨ Colorful DJ lights — creating the perfect weekend vibe\n🍿 Snack bar favorites — fuel up with treats and drinks\n🛞 Skate Mates (trainers) — extra support for new skaters available for rent\n💧 Water bottle refill station — stay hydrated while you roll\n📸 Selfie station — capture the memories\n👟 Rental skates in sizes J7 through adult 16 — we’ve got the whole family covered\n🛡️ Helmets and protective gear available for purchase — safety first\, fun always\n\nWant to save time at the door? Sign the waiver for you and/or any accompanying minors! \nOn the day of the event\, street parking is available on Fairground Road. Enter the Fairgrounds using Gate 5 and look for the Monterey Skates signs\, which will direct you to the King City building. Doors open 10 minutes before a session.
URL:https://montereyskates.com/event/saturday-afternoon-family-skate-1pm-4pm-december-6-2025/
LOCATION:Monterey Fairgrounds King City Building\, 2004 Fairground Road\, Monterey\, CA\, 93940\, United States
CATEGORIES:Session
ATTACH;FMTTYPE=image/jpeg:https://montereyskates.com/wp-content/uploads/sites/36/2025/05/Saturday-afternoon-family.jpg
ORGANIZER;CN="Monterey Skates":MAILTO:info@montereyskates.com
END:VEVENT
END:VCALENDAR