BEGIN:VCALENDAR
VERSION:2.0
PRODID:-//Monterey Skates - ECPv6.15.20//NONSGML v1.0//EN
CALSCALE:GREGORIAN
METHOD:PUBLISH
X-WR-CALNAME:Monterey Skates
X-ORIGINAL-URL:https://montereyskates.com
X-WR-CALDESC:Events for Monterey Skates
REFRESH-INTERVAL;VALUE=DURATION:PT1H
X-Robots-Tag:noindex
X-PUBLISHED-TTL:PT1H
BEGIN:VTIMEZONE
TZID:America/Los_Angeles
BEGIN:DAYLIGHT
TZOFFSETFROM:-0800
TZOFFSETTO:-0700
TZNAME:PDT
DTSTART:20240310T100000
END:DAYLIGHT
BEGIN:STANDARD
TZOFFSETFROM:-0700
TZOFFSETTO:-0800
TZNAME:PST
DTSTART:20241103T090000
END:STANDARD
BEGIN:DAYLIGHT
TZOFFSETFROM:-0800
TZOFFSETTO:-0700
TZNAME:PDT
DTSTART:20250309T100000
END:DAYLIGHT
BEGIN:STANDARD
TZOFFSETFROM:-0700
TZOFFSETTO:-0800
TZNAME:PST
DTSTART:20251102T090000
END:STANDARD
BEGIN:DAYLIGHT
TZOFFSETFROM:-0800
TZOFFSETTO:-0700
TZNAME:PDT
DTSTART:20260308T100000
END:DAYLIGHT
BEGIN:STANDARD
TZOFFSETFROM:-0700
TZOFFSETTO:-0800
TZNAME:PST
DTSTART:20261101T090000
END:STANDARD
END:VTIMEZONE
BEGIN:VEVENT
DTSTART;TZID=America/Los_Angeles:20251221T120000
DTEND;TZID=America/Los_Angeles:20251221T130000
DTSTAMP:20260420T095956
CREATED:20251202T184513Z
LAST-MODIFIED:20251202T190007Z
UID:10000223-1766318400-1766322000@montereyskates.com
SUMMARY:Sunday Adult Skating Lesson 12:00pm - 1pm (December 21\, 2025)
DESCRIPTION:This lesson is designed for those 13 and over. Whether you’re a beginner finding your balance or a skater looking to improve your skills\, our Sunday Adult Skating Lesson is the perfect place to level up. Held before the Sunday Afternoon Family Skate\, this half-long lesson provides guidance\, tips\, and encouragement in a relaxed\, supportive environment. Your instructor will be Scarlett Aamodt\, a certified personal trainer\, skate instructor\, and hockey coach. Protective gear (helmet\, knee\, elbow\, and wrist) required and available for sale. The lesson includes admission to the family skate from 1pm-4pm that follows. \nOn the day of the event\, street parking is available on Fairground Road. Enter the Fairgrounds using Gate 5 and look for the Monterey Skates signs\, which will direct you to the King City building. Doors open 10 minutes before a session.
URL:https://montereyskates.com/event/sunday-adult-skating-lesson-1200pm-1pm-december-21-2025/
LOCATION:Monterey Fairgrounds King City Building\, 2004 Fairground Road\, Monterey\, CA\, 93940\, United States
CATEGORIES:Lesson
ATTACH;FMTTYPE=image/jpeg:https://montereyskates.com/wp-content/uploads/sites/36/2025/06/Sunday-adult-lesson.jpg
ORGANIZER;CN="Monterey Skates":MAILTO:info@montereyskates.com
END:VEVENT
BEGIN:VEVENT
DTSTART;TZID=America/Los_Angeles:20251221T130000
DTEND;TZID=America/Los_Angeles:20251221T160000
DTSTAMP:20260420T095956
CREATED:20250716T163350Z
LAST-MODIFIED:20251211T195742Z
UID:10000206-1766322000-1766332800@montereyskates.com
SUMMARY:Sunday Afternoon Family Skate 1pm - 4pm (December 21\, 2025)
DESCRIPTION:Wrap up the weekend with some quality time on wheels at our Sunday Afternoon Family Skate! This easygoing session is perfect for families looking to laugh\, move\, and roll together before the school/work week begins again. We’ll spin a mix of upbeat\, feel-good music that everyone can enjoy\, with a few fun skating games sprinkled in to keep things lively. It’s a great way to make Sunday memories—whether you’re cruising hand-in-hand or cheering from the sidelines with a snack in hand. \n\n🎶 Family-friendly upbeat music — songs that keep all ages rolling\n✨ Colorful DJ lights — creating the perfect weekend vibe\n🍿 Snack bar favorites — fuel up with treats and drinks\n🛞 Skate Mates (trainers) — extra support for new skaters available for rent\n💧 Water bottle refill station — stay hydrated while you roll\n👟 Rental skates in sizes J7 through adult 16 — we’ve got the whole family covered\n🛡️ Helmets and protective gear available for purchase — safety first\, fun always\n\nWant to save time at the door? Sign the waiver for you and/or any accompanying minors! \nOn the day of the event\, street parking is available on Fairground Road. Enter the Fairgrounds using Gate 5 and look for the Monterey Skates signs\, which will direct you to the King City building. Doors open 10 minutes before a session.
URL:https://montereyskates.com/event/sunday-afternoon-family-skate-1pm-4pm-december-21-2025/
LOCATION:Monterey Fairgrounds King City Building\, 2004 Fairground Road\, Monterey\, CA\, 93940\, United States
CATEGORIES:Session
ATTACH;FMTTYPE=image/jpeg:https://montereyskates.com/wp-content/uploads/sites/36/2025/05/Sunday-afternoon-family.jpg
ORGANIZER;CN="Monterey Skates":MAILTO:info@montereyskates.com
END:VEVENT
BEGIN:VEVENT
DTSTART;TZID=America/Los_Angeles:20251221T190000
DTEND;TZID=America/Los_Angeles:20251221T220000
DTSTAMP:20260420T095956
CREATED:20250716T163411Z
LAST-MODIFIED:20251216T214632Z
UID:10000215-1766343600-1766354400@montereyskates.com
SUMMARY:Sunday Funk Frequencies 7pm - 10pm (December 21\, 2025)
DESCRIPTION:Close out the weekend your way—with smooth moves\, clean grooves\, and grown-up skate vibes at our Sunday Funk Frequencies Adults-Only Skate. This 18+ session is for adults who want to roll\, vibe\, and unwind to a hand-picked soundtrack of funk\, disco\, house\, and throwback favorites. The lights are low\, the energy is high\, and the floor is yours—whether you’re skating solo\, linking up with friends\, or showing off your signature style. This event is co-hosted with Encounters of the Funky Kind: \nEncounters of the Funky Kind is an analog DJ collective. Members Kenji Rei\, Oh-So Ritmico\, and Funky Jarocho are on a galactic quest to bring you funky tunes. Kenji Rei is a DJ\, producer\, and songwriter from Marina\, CA. He is a resident DJ on Sweet Vibrations Radio (UK) with a monthly Neo Soul/Hip-Hop show. Oh-So Ritmico is a Monterey-based vinyl DJ with a groovy collection of music from around the world. Check them out on SoundCloud and Instagram. \n\n🎶 Up tempo music — songs to keep you rolling (and no kids to get in the way)\n✨ Club DJ lights — creating the perfect weekend vibe\n🍿 Snack bar favorites — fuel up with treats and drinks\n🛞 Skate Mates (trainers) — extra support for new skaters available for rent\n💧 Water bottle refill station — stay hydrated while you roll\n👟 Rental skates in sizes J7 through adult 16 — we’ve got the whole family covered\n🛡️ Helmets and protective gear available for purchase — safety first\, fun always\n\nWant to save time at the door? Sign the waiver for you and/or any accompanying minors! \nOn the day of the event\, street parking is available on Fairground Road. For this weekend only\, enter the Fairgrounds using Gate 4 (not Gate 5\, the regular gate we use) and you’ll be directed to the King City building. Doors open 10 minutes before a session. Here’s a map for how to enter the Fairgrounds and get to the King City building (note\, we’ll be using the back door):
URL:https://montereyskates.com/event/sunday-night-glide-7pm-10pm-december-21-2025/
LOCATION:Monterey Fairgrounds King City Building\, 2004 Fairground Road\, Monterey\, CA\, 93940\, United States
CATEGORIES:Session
ATTACH;FMTTYPE=image/jpeg:https://montereyskates.com/wp-content/uploads/sites/36/2025/07/Funk-Frequencies_12-21-25.jpg
ORGANIZER;CN="Monterey Skates":MAILTO:info@montereyskates.com
END:VEVENT
END:VCALENDAR