BEGIN:VCALENDAR
VERSION:2.0
PRODID:-//Monterey Skates - ECPv6.15.20//NONSGML v1.0//EN
CALSCALE:GREGORIAN
METHOD:PUBLISH
X-WR-CALNAME:Monterey Skates
X-ORIGINAL-URL:https://montereyskates.com
X-WR-CALDESC:Events for Monterey Skates
REFRESH-INTERVAL;VALUE=DURATION:PT1H
X-Robots-Tag:noindex
X-PUBLISHED-TTL:PT1H
BEGIN:VTIMEZONE
TZID:America/Los_Angeles
BEGIN:DAYLIGHT
TZOFFSETFROM:-0800
TZOFFSETTO:-0700
TZNAME:PDT
DTSTART:20250309T100000
END:DAYLIGHT
BEGIN:STANDARD
TZOFFSETFROM:-0700
TZOFFSETTO:-0800
TZNAME:PST
DTSTART:20251102T090000
END:STANDARD
BEGIN:DAYLIGHT
TZOFFSETFROM:-0800
TZOFFSETTO:-0700
TZNAME:PDT
DTSTART:20260308T100000
END:DAYLIGHT
BEGIN:STANDARD
TZOFFSETFROM:-0700
TZOFFSETTO:-0800
TZNAME:PST
DTSTART:20261101T090000
END:STANDARD
BEGIN:DAYLIGHT
TZOFFSETFROM:-0800
TZOFFSETTO:-0700
TZNAME:PDT
DTSTART:20270314T100000
END:DAYLIGHT
BEGIN:STANDARD
TZOFFSETFROM:-0700
TZOFFSETTO:-0800
TZNAME:PST
DTSTART:20271107T090000
END:STANDARD
END:VTIMEZONE
BEGIN:VEVENT
DTSTART;TZID=America/Los_Angeles:20260307T130000
DTEND;TZID=America/Los_Angeles:20260307T160000
DTSTAMP:20260418T164552
CREATED:20251225T050620Z
LAST-MODIFIED:20251225T060424Z
UID:10000246-1772888400-1772899200@montereyskates.com
SUMMARY:Saturday Afternoon Family Skate 1pm-4pm (March 7\, 2026)
DESCRIPTION:Looking for the perfect weekend outing? Consider our Saturday Afternoon Family Skate\, a fun and relaxed session for all ages! We’ll keep the energy high with upbeat\, mainstream music that everyone can enjoy—from current hits to crowd-pleasing classics. While not as game-packed as our Saturday morning kids session\, we’ll still sprinkle in a few skating games throughout the afternoon to keep things lively. It’s a great time to cruise the floor\, practice your moves\, or just enjoy the atmosphere with friends and family. \n\n🎶 Family-friendly upbeat music — songs that keep all ages rolling\n✨ Colorful DJ lights — creating the perfect weekend vibe\n🍿 Snack bar favorites — fuel up with treats and drinks\n🛞 Skate Mates (trainers) — extra support for new skaters available for rent\n💧 Water bottle refill station — stay hydrated while you roll\n👟 Rental skates in sizes J7 through adult 16 — we’ve got the whole family covered\n🛡️ Helmets and protective gear available for purchase — safety first\, fun always\n\nOn the day of the event\, street parking is available on Fairground Road. Enter the Fairgrounds using Gate 5 and look for the Monterey Skates signs\, which will direct you to the King City building. Doors open 10 minutes before a session.
URL:https://montereyskates.com/event/saturday-afternoon-family-skate-1pm-4pm-march-7-2026/
LOCATION:Monterey Fairgrounds King City Building\, 2004 Fairground Road\, Monterey\, CA\, 93940\, United States
CATEGORIES:Session
ATTACH;FMTTYPE=image/jpeg:https://montereyskates.com/wp-content/uploads/sites/36/2025/05/Saturday-afternoon-family.jpg
ORGANIZER;CN="Monterey Skates":MAILTO:info@montereyskates.com
END:VEVENT
BEGIN:VEVENT
DTSTART;TZID=America/Los_Angeles:20260307T160000
DTEND;TZID=America/Los_Angeles:20260307T190000
DTSTAMP:20260418T164552
CREATED:20251225T050620Z
LAST-MODIFIED:20260212T220659Z
UID:10000247-1772899200-1772910000@montereyskates.com
SUMMARY:Saturday Evening All Skate 4pm-7pm (March 7\, 2026)
DESCRIPTION:It’s Saturday evening! Why not join us for our Saturday Evening All Skate\, a high-energy session perfect for teens\, young adults\, and anyone who loves rolling to the rhythm. With great music\, colorful lights\, and a fun\, welcoming atmosphere\, this session brings the weekend vibes full force. Whether you’re showing off your footwork\, cruising with friends\, or skating for the first time\, everyone is welcome! \n\n🎶 Up tempo music — songs to keep you rolling\n✨ Club DJ lights — creating the perfect weekend vibe\n🍿 Snack bar favorites — fuel up with treats and drinks\n🛞 Skate Mates (trainers) — extra support for new skaters available for rent\n💧 Water bottle refill station — stay hydrated while you roll\n👟 Rental skates in sizes J7 through adult 16 — we’ve got the whole family covered\n🛡️ Helmets and protective gear available for purchase — safety first\, fun always\n\nOn the day of the event\, street parking is available on Fairground Road. Enter the Fairgrounds using Gate 5 and look for the Monterey Skates signs\, which will direct you to the King City building. Doors open 10 minutes before a session.
URL:https://montereyskates.com/event/saturday-evening-all-skate-4pm-7pm-march-7-2026/
LOCATION:Monterey Fairgrounds King City Building\, 2004 Fairground Road\, Monterey\, CA\, 93940\, United States
CATEGORIES:Session
ATTACH;FMTTYPE=image/jpeg:https://montereyskates.com/wp-content/uploads/sites/36/2025/12/Saturday-evening-all-skate.jpg
ORGANIZER;CN="Monterey Skates":MAILTO:info@montereyskates.com
END:VEVENT
END:VCALENDAR