BEGIN:VCALENDAR
VERSION:2.0
PRODID:-//Monterey Skates - ECPv6.15.20//NONSGML v1.0//EN
CALSCALE:GREGORIAN
METHOD:PUBLISH
X-WR-CALNAME:Monterey Skates
X-ORIGINAL-URL:https://montereyskates.com
X-WR-CALDESC:Events for Monterey Skates
REFRESH-INTERVAL;VALUE=DURATION:PT1H
X-Robots-Tag:noindex
X-PUBLISHED-TTL:PT1H
BEGIN:VTIMEZONE
TZID:America/Los_Angeles
BEGIN:DAYLIGHT
TZOFFSETFROM:-0800
TZOFFSETTO:-0700
TZNAME:PDT
DTSTART:20250309T100000
END:DAYLIGHT
BEGIN:STANDARD
TZOFFSETFROM:-0700
TZOFFSETTO:-0800
TZNAME:PST
DTSTART:20251102T090000
END:STANDARD
BEGIN:DAYLIGHT
TZOFFSETFROM:-0800
TZOFFSETTO:-0700
TZNAME:PDT
DTSTART:20260308T100000
END:DAYLIGHT
BEGIN:STANDARD
TZOFFSETFROM:-0700
TZOFFSETTO:-0800
TZNAME:PST
DTSTART:20261101T090000
END:STANDARD
BEGIN:DAYLIGHT
TZOFFSETFROM:-0800
TZOFFSETTO:-0700
TZNAME:PDT
DTSTART:20270314T100000
END:DAYLIGHT
BEGIN:STANDARD
TZOFFSETFROM:-0700
TZOFFSETTO:-0800
TZNAME:PST
DTSTART:20271107T090000
END:STANDARD
END:VTIMEZONE
BEGIN:VEVENT
DTSTART;TZID=America/Los_Angeles:20260308T130000
DTEND;TZID=America/Los_Angeles:20260308T160000
DTSTAMP:20260418T164833
CREATED:20251225T050621Z
LAST-MODIFIED:20251225T061121Z
UID:10000248-1772974800-1772985600@montereyskates.com
SUMMARY:Sunday Afternoon Family Skate 1pm-4pm (March 8\, 2026)
DESCRIPTION:Wrap up the weekend with some quality time on wheels at our Sunday Afternoon Family Skate! This easygoing session is perfect for families looking to laugh\, move\, and roll together before the school/work week begins again. We’ll spin a mix of upbeat\, feel-good music that everyone can enjoy\, with a few fun skating games sprinkled in to keep things lively. It’s a great way to make Sunday memories—whether you’re cruising hand-in-hand or cheering from the sidelines with a snack in hand. \n\n🎶 Family-friendly upbeat music — songs that keep all ages rolling\n✨ Colorful DJ lights — creating the perfect weekend vibe\n🍿 Snack bar favorites — fuel up with treats and drinks\n🛞 Skate Mates (trainers) — extra support for new skaters available for rent\n💧 Water bottle refill station — stay hydrated while you roll\n👟 Rental skates in sizes J7 through adult 16 — we’ve got the whole family covered\n🛡️ Helmets and protective gear available for purchase — safety first\, fun always\n\nOn the day of the event\, street parking is available on Fairground Road. Enter the Fairgrounds using Gate 5 and look for the Monterey Skates signs\, which will direct you to the King City building. Doors open 10 minutes before a session.
URL:https://montereyskates.com/event/sunday-afternoon-family-skate-1pm-4pm-march-8-2026/
LOCATION:Monterey Fairgrounds King City Building\, 2004 Fairground Road\, Monterey\, CA\, 93940\, United States
CATEGORIES:Session
ATTACH;FMTTYPE=image/jpeg:https://montereyskates.com/wp-content/uploads/sites/36/2025/05/Sunday-afternoon-family.jpg
ORGANIZER;CN="Monterey Skates":MAILTO:info@montereyskates.com
END:VEVENT
BEGIN:VEVENT
DTSTART;TZID=America/Los_Angeles:20260308T190000
DTEND;TZID=America/Los_Angeles:20260308T220000
DTSTAMP:20260418T164833
CREATED:20251225T050634Z
LAST-MODIFIED:20251225T061358Z
UID:10000249-1772996400-1773007200@montereyskates.com
SUMMARY:Sunday Night Glide 7pm-10pm (March 8\, 2026)
DESCRIPTION:Close out the weekend your way—with smooth moves\, clean grooves\, and grown-up skate vibes at our Sunday Night Glide Adults-Only Skate. This 18+ session is for adults who want to roll\, vibe\, and unwind to a hand-picked soundtrack of funk\, disco\, house\, and throwback favorites. The lights are low\, the energy is high\, and the floor is yours—whether you’re skating solo\, linking up with friends\, or showing off your signature style. This event is co-hosted with Pop & Hiss\, and they’ll be sending three DJs to keep you in the groove: Alex Ramirez and Daniel T (Pop & Hiss) and Julianna Bach (KCHUNG Radio). \n\n🎶 Up tempo music — songs to keep you rolling\n✨ Club DJ lights — creating the perfect weekend vibe\n🍿 Snack bar favorites — fuel up with treats and drinks\n🛞 Skate Mates (trainers) — extra support for new skaters available for rent\n💧 Water bottle refill station — stay hydrated while you roll\n👟 Rental skates in sizes J7 through adult 16 — we’ve got the whole family covered\n🛡️ Helmets and protective gear available for purchase — safety first\, fun always\n\nOn the day of the event\, street parking is available on Fairground Road. Enter the Fairgrounds using Gate 5 and look for the Monterey Skates signs\, which will direct you to the King City building. Doors open 10 minutes before a session.
URL:https://montereyskates.com/event/sunday-night-glide-7pm-10pm-march-8-2026/
LOCATION:Monterey Fairgrounds King City Building\, 2004 Fairground Road\, Monterey\, CA\, 93940\, United States
CATEGORIES:Session
ATTACH;FMTTYPE=image/jpeg:https://montereyskates.com/wp-content/uploads/sites/36/2025/06/Sunday-Night-Glide.jpg
ORGANIZER;CN="Monterey Skates":MAILTO:info@montereyskates.com
END:VEVENT
END:VCALENDAR