BEGIN:VCALENDAR
VERSION:2.0
PRODID:-//Monterey Skates - ECPv6.15.20//NONSGML v1.0//EN
CALSCALE:GREGORIAN
METHOD:PUBLISH
X-WR-CALNAME:Monterey Skates
X-ORIGINAL-URL:https://montereyskates.com
X-WR-CALDESC:Events for Monterey Skates
REFRESH-INTERVAL;VALUE=DURATION:PT1H
X-Robots-Tag:noindex
X-PUBLISHED-TTL:PT1H
BEGIN:VTIMEZONE
TZID:America/Los_Angeles
BEGIN:DAYLIGHT
TZOFFSETFROM:-0800
TZOFFSETTO:-0700
TZNAME:PDT
DTSTART:20240310T100000
END:DAYLIGHT
BEGIN:STANDARD
TZOFFSETFROM:-0700
TZOFFSETTO:-0800
TZNAME:PST
DTSTART:20241103T090000
END:STANDARD
BEGIN:DAYLIGHT
TZOFFSETFROM:-0800
TZOFFSETTO:-0700
TZNAME:PDT
DTSTART:20250309T100000
END:DAYLIGHT
BEGIN:STANDARD
TZOFFSETFROM:-0700
TZOFFSETTO:-0800
TZNAME:PST
DTSTART:20251102T090000
END:STANDARD
BEGIN:DAYLIGHT
TZOFFSETFROM:-0800
TZOFFSETTO:-0700
TZNAME:PDT
DTSTART:20260308T100000
END:DAYLIGHT
BEGIN:STANDARD
TZOFFSETFROM:-0700
TZOFFSETTO:-0800
TZNAME:PST
DTSTART:20261101T090000
END:STANDARD
END:VTIMEZONE
BEGIN:VEVENT
DTSTART;TZID=America/Los_Angeles:20250621T120000
DTEND;TZID=America/Los_Angeles:20250621T130000
DTSTAMP:20260421T170054
CREATED:20250614T033319Z
LAST-MODIFIED:20251021T172436Z
UID:10000010-1750507200-1750510800@montereyskates.com
SUMMARY:Saturday All-Ages Skate Lesson | June 21 | noon – 1pm
DESCRIPTION:Whether you’re a beginner finding your balance or a skater looking to improve your skills\, our Saturday Skating Lesson is the perfect place to level up. Held right before the Saturday Afternoon Family Skate\, this hour-long session provides guidance\, tips\, and encouragement in a relaxed\, supportive environment. \nYour instructor will be Scarlett Aamodt\, a certified personal trainer\, skate instructor\, and hockey coach. She played in the Junior Olympics and was a professional skater in France. She will help you gain confidence and learn the basics—or refine your form and footwork. Scarlett wanted me to pass along that protective gear is required (helmet at a minimum). Limited protective gear will be available for purchase. Open to all ages and includes admission to the family skate from 1pm-4pm that follows. \n🕙 Time: 12:00 PM – 1:00 PM \n🛼 Great for all skill levels | 👟 Skate rental is included\, or you can bring your own skates | 📍 Instruction tailored to your ability | 🎟️ Buy tickets online or at the door (space permitting)
URL:https://montereyskates.com/event/saturday-all-ages-skate-lesson-june-21-noon-1pm/
LOCATION:Monterey Fairgrounds King City Building\, 2004 Fairground Road\, Monterey\, CA\, 93940\, United States
CATEGORIES:Lesson
ATTACH;FMTTYPE=image/jpeg:https://montereyskates.com/wp-content/uploads/sites/36/2025/06/Saturday-skate-lesson.jpg
ORGANIZER;CN="Monterey Skates":MAILTO:info@montereyskates.com
END:VEVENT
BEGIN:VEVENT
DTSTART;TZID=America/Los_Angeles:20250621T100000
DTEND;TZID=America/Los_Angeles:20250621T120000
DTSTAMP:20260421T170054
CREATED:20250523T044625Z
LAST-MODIFIED:20250523T044625Z
UID:10000004-1750500000-1750507200@montereyskates.com
SUMMARY:Saturday Morning Kids Skate | June 21 | 10am – noon
DESCRIPTION:Start the weekend of our grand opening with big smiles and little wheels! Our Saturday Morning Kids Skate is designed just for young skaters\, with music they’ll love\, a safe and supportive atmosphere\, and tons of skating games throughout the session. We’ll be giving out fun prizes\, playing classic rink games like Red Light\, Green Light\, Limbo\, and the Hokey Pokey\, and more! Whether your child is brand new to skating or already rolling strong\, this session is the perfect place to build confidence and have a blast. We have Skate Mates available for rental\, and our snack bar will be open. \n🕙 Time: 10:00 AM – 12:00 PM \n🎟️ Recommended for ages 12 & under | 🎶 Kid-friendly music | 🎉 Prizes + fun guaranteed! | 🛼 Rental skates available! | 👪 Parents can skate too! \nSave time at the door and sign the waiver!\nOn the day of the event\, street parking is available on Fairground Road. Enter the Fairgrounds using Gate 5 and look for the Monterey Skates truck\, which will be parked just outside the King City building. Doors open 10 minutes before a session.
URL:https://montereyskates.com/event/saturday-morning-kids-skate-june-21-10am-noon/
LOCATION:Monterey Fairgrounds King City Building\, 2004 Fairground Road\, Monterey\, CA\, 93940\, United States
CATEGORIES:Session
ATTACH;FMTTYPE=image/jpeg:https://montereyskates.com/wp-content/uploads/sites/36/2025/05/Saturday-kids.jpg
ORGANIZER;CN="Monterey Skates":MAILTO:info@montereyskates.com
END:VEVENT
BEGIN:VEVENT
DTSTART;TZID=America/Los_Angeles:20250620T200000
DTEND;TZID=America/Los_Angeles:20250620T230000
DTSTAMP:20260421T170054
CREATED:20250523T032313Z
LAST-MODIFIED:20250523T040752Z
UID:10000003-1750449600-1750460400@montereyskates.com
SUMMARY:Friday Night Open Skate | June 20 | 8pm – 11pm
DESCRIPTION:The lights go low\, the music turns up\, and the weekend officially begins! Our Friday Night Open Skate is the perfect way to roll into the night with your crew. While still family-friendly\, this session is especially popular with teens\, young adults\, and anyone looking for a high-energy skating experience. Expect fun lighting effects\, great beats\, and a lively vibe—whether you’re cruising with friends\, dancing on wheels\, or just soaking in the scene. \n🕖 Time: 8:00 PM – 11:00 PM \n🎟️ All ages welcome | 🎶 Clean hits with a party vibe | 🛼 Rental skates available! \nSave time at the door and sign the waiver!\nOn the day of the event\, street parking is available on Fairground Road. Enter the Fairgrounds using Gate 5 and look for the Monterey Skates truck\, which will be parked just outside the King City building. Doors open 10 minutes before a session.
URL:https://montereyskates.com/event/friday-night-open-skate-june-20-8pm-11pm/
LOCATION:Monterey Fairgrounds King City Building\, 2004 Fairground Road\, Monterey\, CA\, 93940\, United States
CATEGORIES:Session
ATTACH;FMTTYPE=image/jpeg:https://montereyskates.com/wp-content/uploads/sites/36/2025/05/Friday-night-open.jpg
ORGANIZER;CN="Monterey Skates":MAILTO:info@montereyskates.com
END:VEVENT
BEGIN:VEVENT
DTSTART;TZID=America/Los_Angeles:20250620T180000
DTEND;TZID=America/Los_Angeles:20250620T200000
DTSTAMP:20260421T170054
CREATED:20250523T031225Z
LAST-MODIFIED:20250523T040543Z
UID:10000002-1750442400-1750449600@montereyskates.com
SUMMARY:Friday Night Family Skate | June 20 | 6pm – 8pm
DESCRIPTION:Kick off off grand opening weekend with some good old-fashioned fun at our Friday Night Family Skate! This all-ages session is perfect for kids\, parents\, grandparents\, and anyone who wants to roll into the weekend with great music\, colorful lights\, and plenty of smiles. Whether you’re a seasoned skater or just finding your balance\, our friendly team and Skate Mates (available for rental) are here to help. Enjoy our snack bar\, snap a pic at our selfie station\, and make memories that roll! \n🎟️ Open to all ages | 🎶 Family-friendly music | 🛼 Rental skates available! \nSave time at the door and sign the waiver!\nOn the day of the event\, street parking is available on Fairground Road. Enter the Fairgrounds using Gate 5 and look for the Monterey Skates truck\, which will be parked just outside the King City building. Doors open 10 minutes before a session.
URL:https://montereyskates.com/event/friday-night-family-skate-june-20-6pm-8pm/
LOCATION:Monterey Fairgrounds King City Building\, 2004 Fairground Road\, Monterey\, CA\, 93940\, United States
CATEGORIES:Session
ATTACH;FMTTYPE=image/jpeg:https://montereyskates.com/wp-content/uploads/sites/36/2025/05/Friday-night-family.jpg
ORGANIZER;CN="Monterey Skates":MAILTO:info@montereyskates.com
END:VEVENT
BEGIN:VEVENT
DTSTART;TZID=America/Los_Angeles:20250510T160000
DTEND;TZID=America/Los_Angeles:20250510T210000
DTSTAMP:20260421T170054
CREATED:20250425T031444Z
LAST-MODIFIED:20250425T044454Z
UID:10000001-1746892800-1746910800@montereyskates.com
SUMMARY:Soft Launch Saturday Skate | May 10 | 4pm - 9pm
DESCRIPTION:Do you already have your own skates? If so\, you’re invited to the Monterey Skates Soft Launch Saturday Skate from 4pm – 9pm on Saturday May 10th! We’ll have our club-quality audio system and light show ready to go\, plus the snack bar will be open as well in case you need a little something to keep you going. The music will be family friendly until 7pm\, when it’s time for the kiddos to go home. After 7pm we’ll transition to an adult skate\, but don’t panic\, we only place “clean” versions of all songs! \nOn the day of the event\, street parking is available on Fairground Road. Enter the Fairgrounds using Gate 5 and look for the Monterey Skates truck\, which will be parked just outside the King City building. Doors open 10 minutes before a session. \nSave time at the door and sign the waiver!\nPlease note\, this is a special rate for those who have been rooting for us! This session is only open by invitation\, please do not share!
URL:https://montereyskates.com/event/soft-launch-afternoon-family-skate-may-10-4pm-7pm/
LOCATION:Monterey Fairgrounds King City Building\, 2004 Fairground Road\, Monterey\, CA\, 93940\, United States
CATEGORIES:Session
ATTACH;FMTTYPE=image/jpeg:https://montereyskates.com/wp-content/uploads/sites/36/2025/04/Soft-Launch-Saturday-Skate.jpg
ORGANIZER;CN="Monterey Skates":MAILTO:info@montereyskates.com
END:VEVENT
END:VCALENDAR