BEGIN:VCALENDAR
VERSION:2.0
PRODID:-//Monterey Skates - ECPv6.15.20//NONSGML v1.0//EN
CALSCALE:GREGORIAN
METHOD:PUBLISH
X-WR-CALNAME:Monterey Skates
X-ORIGINAL-URL:https://montereyskates.com
X-WR-CALDESC:Events for Monterey Skates
REFRESH-INTERVAL;VALUE=DURATION:PT1H
X-Robots-Tag:noindex
X-PUBLISHED-TTL:PT1H
BEGIN:VTIMEZONE
TZID:America/Los_Angeles
BEGIN:DAYLIGHT
TZOFFSETFROM:-0800
TZOFFSETTO:-0700
TZNAME:PDT
DTSTART:20240310T100000
END:DAYLIGHT
BEGIN:STANDARD
TZOFFSETFROM:-0700
TZOFFSETTO:-0800
TZNAME:PST
DTSTART:20241103T090000
END:STANDARD
BEGIN:DAYLIGHT
TZOFFSETFROM:-0800
TZOFFSETTO:-0700
TZNAME:PDT
DTSTART:20250309T100000
END:DAYLIGHT
BEGIN:STANDARD
TZOFFSETFROM:-0700
TZOFFSETTO:-0800
TZNAME:PST
DTSTART:20251102T090000
END:STANDARD
BEGIN:DAYLIGHT
TZOFFSETFROM:-0800
TZOFFSETTO:-0700
TZNAME:PDT
DTSTART:20260308T100000
END:DAYLIGHT
BEGIN:STANDARD
TZOFFSETFROM:-0700
TZOFFSETTO:-0800
TZNAME:PST
DTSTART:20261101T090000
END:STANDARD
END:VTIMEZONE
BEGIN:VEVENT
DTSTART;TZID=America/Los_Angeles:20250801T170000
DTEND;TZID=America/Los_Angeles:20250801T190000
DTSTAMP:20260421T053733
CREATED:20250626T041333Z
LAST-MODIFIED:20250626T135625Z
UID:10000131-1754067600-1754074800@montereyskates.com
SUMMARY:Friday Evening Family Skate 5pm - 7pm (August 1\, 2025)
DESCRIPTION:Kick off your weekend with some good old-fashioned fun at our Friday Night Family Skate! This all-ages session is perfect for kids\, parents\, grandparents\, and anyone who wants to roll into the weekend with great music\, colorful lights\, and plenty of smiles. Whether you’re a seasoned skater or just finding your balance\, our friendly team are here to help. Enjoy our snack bar\, snap a pic at our selfie station\, and make memories that roll!
URL:https://montereyskates.com/event/friday-evening-family-skate-5pm-7pm-august-1-2025/
LOCATION:Monterey Fairgrounds King City Building\, 2004 Fairground Road\, Monterey\, CA\, 93940\, United States
CATEGORIES:Session
ATTACH;FMTTYPE=image/jpeg:https://montereyskates.com/wp-content/uploads/sites/36/2025/05/Friday-night-family.jpg
ORGANIZER;CN="Monterey Skates":MAILTO:info@montereyskates.com
END:VEVENT
BEGIN:VEVENT
DTSTART;TZID=America/Los_Angeles:20250801T190000
DTEND;TZID=America/Los_Angeles:20250801T220000
DTSTAMP:20260421T053733
CREATED:20250626T041349Z
LAST-MODIFIED:20250626T135704Z
UID:10000137-1754074800-1754085600@montereyskates.com
SUMMARY:Friday Night Open Skate 7pm - 10pm (August 1\, 2025)
DESCRIPTION:The lights go low\, the music turns up\, and the weekend officially begins! Our Friday Night Open Skate is the perfect way to roll into the night with your crew. While still family-friendly\, this session is especially popular with teens\, young adults\, and anyone looking for a high-energy skating experience. Expect fun lighting effects\, great beats\, and a lively vibe—whether you’re cruising with friends\, dancing on wheels\, or just soaking in the scene.
URL:https://montereyskates.com/event/friday-night-open-skate-7pm-10pm-august-1-2025/
LOCATION:Monterey Fairgrounds King City Building\, 2004 Fairground Road\, Monterey\, CA\, 93940\, United States
CATEGORIES:Session
ATTACH;FMTTYPE=image/jpeg:https://montereyskates.com/wp-content/uploads/sites/36/2025/05/Friday-night-open.jpg
ORGANIZER;CN="Monterey Skates":MAILTO:info@montereyskates.com
END:VEVENT
BEGIN:VEVENT
DTSTART;TZID=America/Los_Angeles:20250802T100000
DTEND;TZID=America/Los_Angeles:20250802T120000
DTSTAMP:20260421T053733
CREATED:20250626T041405Z
LAST-MODIFIED:20250626T135759Z
UID:10000143-1754128800-1754136000@montereyskates.com
SUMMARY:Saturday Morning Kids Skate 10am - 12pm (August 2\, 2025)
DESCRIPTION:Start the weekend with big smiles and little wheels! Our Saturday Morning Kids Skate is designed just for young skaters\, with music they’ll love\, a safe and supportive atmosphere\, and tons of skating games throughout the session. We’ll be playing classic rink games like Red Light\, Green Light\, Limbo\, and the Hokey Pokey\, and more! Whether your child is brand new to skating or already rolling strong\, this session is the perfect place to build confidence and have a blast. Rental skates will be available and our snack bar will be open.
URL:https://montereyskates.com/event/saturday-morning-kids-skate-10am-12pm-august-2-2025/
LOCATION:Monterey Fairgrounds King City Building\, 2004 Fairground Road\, Monterey\, CA\, 93940\, United States
CATEGORIES:Session
ATTACH;FMTTYPE=image/jpeg:https://montereyskates.com/wp-content/uploads/sites/36/2025/05/Saturday-kids.jpg
ORGANIZER;CN="Monterey Skates":MAILTO:info@montereyskates.com
END:VEVENT
BEGIN:VEVENT
DTSTART;TZID=America/Los_Angeles:20250802T120000
DTEND;TZID=America/Los_Angeles:20250802T130000
DTSTAMP:20260421T053733
CREATED:20250626T041420Z
LAST-MODIFIED:20251021T172436Z
UID:10000149-1754136000-1754139600@montereyskates.com
SUMMARY:Saturday Kids Skating Lesson 12pm - 1pm (August 2\, 2025)
DESCRIPTION:This lesson is designed for those 12 and under. Whether you’re a beginner finding your balance or a skater looking to improve your skills\, our Saturday Skating Lesson is the perfect place to level up. Held right after the Saturday Morning Kids Skate\, this hour-long lesson provides guidance\, tips\, and encouragement in a relaxed\, supportive environment. As Scarlett will be unavailable\, your instructor will be Olivia\, a figure skater with competition\, exhibition\, and show experience\, as well as three years of teaching experience\, who loves helping skaters advance their skills. \nProtective gear (helmet\, knee\, elbow\, and wrist) required and available for sale. The lesson includes admission to the family skate from 1pm-4pm that follows.
URL:https://montereyskates.com/event/saturday-kids-skating-lesson-12pm-1pm-august-2-2025/
LOCATION:Monterey Fairgrounds King City Building\, 2004 Fairground Road\, Monterey\, CA\, 93940\, United States
CATEGORIES:Lesson
ATTACH;FMTTYPE=image/jpeg:https://montereyskates.com/wp-content/uploads/sites/36/2025/06/Saturday-kids-skate-lesson.jpg
ORGANIZER;CN="Monterey Skates":MAILTO:info@montereyskates.com
END:VEVENT
BEGIN:VEVENT
DTSTART;TZID=America/Los_Angeles:20250802T130000
DTEND;TZID=America/Los_Angeles:20250802T160000
DTSTAMP:20260421T053733
CREATED:20250626T041544Z
LAST-MODIFIED:20250626T140001Z
UID:10000161-1754139600-1754150400@montereyskates.com
SUMMARY:Saturday Afternoon Family Skate 1pm - 4pm (August 2\, 2025)
DESCRIPTION:Looking for the perfect weekend outing? Consider our Saturday Afternoon Family Skate\, a fun and relaxed session for all ages! We’ll keep the energy high with upbeat\, mainstream music that everyone can enjoy—from current hits to crowd-pleasing classics. While not as game-packed as our Saturday morning kids session\, we’ll still sprinkle in a few skating games throughout the afternoon to keep things lively. It’s a great time to cruise the floor\, practice your moves\, or just enjoy the atmosphere with friends and family.
URL:https://montereyskates.com/event/saturday-afternoon-family-skate-1pm-4pm-august-2-2025/
LOCATION:Monterey Fairgrounds King City Building\, 2004 Fairground Road\, Monterey\, CA\, 93940\, United States
CATEGORIES:Session
ATTACH;FMTTYPE=image/jpeg:https://montereyskates.com/wp-content/uploads/sites/36/2025/05/Saturday-afternoon-family.jpg
ORGANIZER;CN="Monterey Skates":MAILTO:info@montereyskates.com
END:VEVENT
BEGIN:VEVENT
DTSTART;TZID=America/Los_Angeles:20250802T180000
DTEND;TZID=America/Los_Angeles:20250802T190000
DTSTAMP:20260421T053733
CREATED:20250716T163351Z
LAST-MODIFIED:20251021T172430Z
UID:10000207-1754157600-1754161200@montereyskates.com
SUMMARY:Adult Night Rhythm Skating Lesson 6pm - 7pm (August 2\, 2025)
DESCRIPTION:Ready to level up your moves? We’re thrilled to offer an Adult Night Rhythm Skating Lesson\, which we’re temporarily moving from Sunday to Saturday from 6–7pm—taught by none Maricus Jones (Instagram)\, a standout in the rhythm skating community and a former student of Isaac Farfan. Whether you’re looking to refine your flow\, build confidence\, or finally nail those groove moves\, this class is for intermediate+ skaters (you should be able to skate forward and backward comfortably). \n🎟️ $35 includes the lesson + admission to the Saturday Night Open Skates from 7–10pm.\n🛼 Protective gear is optional—we have gear available for purchase if needed. \nSpots are limited and this class will fill fast—don’t miss your chance to roll with the best!
URL:https://montereyskates.com/event/adult-night-rhythm-skating-lesson-6pm-7pm-august-2-2025/
LOCATION:Monterey Fairgrounds King City Building\, 2004 Fairground Road\, Monterey\, CA\, 93940\, United States
CATEGORIES:Lesson
ATTACH;FMTTYPE=image/jpeg:https://montereyskates.com/wp-content/uploads/sites/36/2025/07/Sunday-rhythm-lesson.jpg
ORGANIZER;CN="Monterey Skates":MAILTO:info@montereyskates.com
END:VEVENT
BEGIN:VEVENT
DTSTART;TZID=America/Los_Angeles:20250802T190000
DTEND;TZID=America/Los_Angeles:20250802T220000
DTSTAMP:20260421T053733
CREATED:20250626T041617Z
LAST-MODIFIED:20250626T140112Z
UID:10000173-1754161200-1754172000@montereyskates.com
SUMMARY:Saturday Night Open Skate 7pm - 10pm (August 2\, 2025)
DESCRIPTION:It’s Saturday night! Why not join us for our Saturday Night Open Skate\, a high-energy session perfect for teens\, young adults\, and anyone who loves rolling to the rhythm. With great music\, colorful lights\, and a fun\, welcoming atmosphere\, this session brings the weekend vibes full force. Whether you’re showing off your footwork\, cruising with friends\, or skating for the first time\, everyone is welcome!
URL:https://montereyskates.com/event/saturday-night-open-skate-7pm-10pm-august-2-2025/
LOCATION:Monterey Fairgrounds King City Building\, 2004 Fairground Road\, Monterey\, CA\, 93940\, United States
CATEGORIES:Session
ATTACH;FMTTYPE=image/jpeg:https://montereyskates.com/wp-content/uploads/sites/36/2025/05/Saturday-night-open.jpg
ORGANIZER;CN="Monterey Skates":MAILTO:info@montereyskates.com
END:VEVENT
BEGIN:VEVENT
DTSTART;TZID=America/Los_Angeles:20250803T130000
DTEND;TZID=America/Los_Angeles:20250803T160000
DTSTAMP:20260421T053733
CREATED:20250626T041635Z
LAST-MODIFIED:20250626T140252Z
UID:10000179-1754226000-1754236800@montereyskates.com
SUMMARY:Sunday Afternoon Family Skate 1pm - 4pm (August 3\, 2025)
DESCRIPTION:Wrap up the weekend with some quality time on wheels at our Sunday Afternoon Family Skate! This easygoing session is perfect for families looking to laugh\, move\, and roll together before the school/work week begins again. We’ll spin a mix of upbeat\, feel-good music that everyone can enjoy\, with a few fun skating games sprinkled in to keep things lively. It’s a great way to make Sunday memories—whether you’re cruising hand-in-hand or cheering from the sidelines with a snack in hand.
URL:https://montereyskates.com/event/sunday-afternoon-family-skate-1pm-4pm-august-3-2025/
LOCATION:Monterey Fairgrounds King City Building\, 2004 Fairground Road\, Monterey\, CA\, 93940\, United States
CATEGORIES:Session
ATTACH;FMTTYPE=image/jpeg:https://montereyskates.com/wp-content/uploads/sites/36/2025/05/Sunday-afternoon-family.jpg
ORGANIZER;CN="Monterey Skates":MAILTO:info@montereyskates.com
END:VEVENT
BEGIN:VEVENT
DTSTART;TZID=America/Los_Angeles:20250803T190000
DTEND;TZID=America/Los_Angeles:20250803T220000
DTSTAMP:20260421T053733
CREATED:20250626T041712Z
LAST-MODIFIED:20250626T140327Z
UID:10000185-1754247600-1754258400@montereyskates.com
SUMMARY:Sunday Night Glide 7pm - 10pm (August 3\, 2025)
DESCRIPTION:Close out the weekend your way—with smooth moves\, clean grooves\, and grown-up skate vibes at our Sunday Night Glide Adults-Only Skate. This 18+ session is for adults who want to roll\, vibe\, and unwind to a hand-picked soundtrack of funk\, disco\, house\, and throwback favorites. The lights are low\, the energy is high\, and the floor is yours—whether you’re skating solo\, linking up with friends\, or showing off your signature style. This event is co-hosted with Pop & Hiss\, and they’ll be sending three DJs to keep you in the groove: Alex Ramirez and Daniel T (Pop & Hiss) and Julianna Bach (KCHUNG Radio).
URL:https://montereyskates.com/event/sunday-night-glide-7pm-10pm-august-3-2025/
LOCATION:Monterey Fairgrounds King City Building\, 2004 Fairground Road\, Monterey\, CA\, 93940\, United States
CATEGORIES:Session
ATTACH;FMTTYPE=image/jpeg:https://montereyskates.com/wp-content/uploads/sites/36/2025/06/Sunday-night-adult.jpg
ORGANIZER;CN="Monterey Skates":MAILTO:info@montereyskates.com
END:VEVENT
END:VCALENDAR