BEGIN:VCALENDAR
VERSION:2.0
PRODID:-//Monterey Skates - ECPv6.15.20//NONSGML v1.0//EN
CALSCALE:GREGORIAN
METHOD:PUBLISH
X-ORIGINAL-URL:https://montereyskates.com
X-WR-CALDESC:Events for Monterey Skates
REFRESH-INTERVAL;VALUE=DURATION:PT1H
X-Robots-Tag:noindex
X-PUBLISHED-TTL:PT1H
BEGIN:VTIMEZONE
TZID:America/Los_Angeles
BEGIN:DAYLIGHT
TZOFFSETFROM:-0800
TZOFFSETTO:-0700
TZNAME:PDT
DTSTART:20250309T100000
END:DAYLIGHT
BEGIN:STANDARD
TZOFFSETFROM:-0700
TZOFFSETTO:-0800
TZNAME:PST
DTSTART:20251102T090000
END:STANDARD
BEGIN:DAYLIGHT
TZOFFSETFROM:-0800
TZOFFSETTO:-0700
TZNAME:PDT
DTSTART:20260308T100000
END:DAYLIGHT
BEGIN:STANDARD
TZOFFSETFROM:-0700
TZOFFSETTO:-0800
TZNAME:PST
DTSTART:20261101T090000
END:STANDARD
BEGIN:DAYLIGHT
TZOFFSETFROM:-0800
TZOFFSETTO:-0700
TZNAME:PDT
DTSTART:20270314T100000
END:DAYLIGHT
BEGIN:STANDARD
TZOFFSETFROM:-0700
TZOFFSETTO:-0800
TZNAME:PST
DTSTART:20271107T090000
END:STANDARD
END:VTIMEZONE
BEGIN:VEVENT
DTSTART;TZID=America/Los_Angeles:20260206T170000
DTEND;TZID=America/Los_Angeles:20260206T210000
DTSTAMP:20260418T164002
CREATED:20251225T050551Z
LAST-MODIFIED:20251225T052618Z
UID:10000238-1770397200-1770411600@montereyskates.com
SUMMARY:Friday Evening All Skate 5pm-9pm (February 6\, 2026)
DESCRIPTION:Kick off your weekend with some nonstop fun at our Friday Night All Skate! This all-ages session is perfect for kids\, teens\, parents\, grandparents\, and anyone who wants to roll into the weekend with great music\, vibrant lights\, and plenty of smiles. Whether you’re a seasoned skater or just finding your balance\, our friendly team are here to help. \n\n🎶 Family-friendly upbeat music — songs that keep all ages rolling\n✨ Colorful DJ lights — creating the perfect weekend vibe\n🍿 Snack bar favorites — fuel up with treats and drinks\n🛞 Skate Mates (trainers) — extra support for new skaters available for rent\n💧 Water bottle refill station — stay hydrated while you roll\n👟 Rental skates in sizes J7 through adult 16 — we’ve got the whole family covered\n🛡️ Helmets and protective gear available for purchase — safety first\, fun always\n\nOn the day of the event\, street parking is available on Fairground Road. Enter the Fairgrounds using Gate 5 and look for the Monterey Skates signs\, which will direct you to the King City building. Doors open 10 minutes before a session.
URL:https://montereyskates.com/event/friday-evening-all-skate-5pm-9pm-february-6-2026/
LOCATION:Monterey Fairgrounds King City Building\, 2004 Fairground Road\, Monterey\, CA\, 93940\, United States
CATEGORIES:Session
ATTACH;FMTTYPE=image/jpeg:https://montereyskates.com/wp-content/uploads/sites/36/2025/06/Friday-night-all.jpg
ORGANIZER;CN="Monterey Skates":MAILTO:info@montereyskates.com
END:VEVENT
BEGIN:VEVENT
DTSTART;TZID=America/Los_Angeles:20260207T110000
DTEND;TZID=America/Los_Angeles:20260207T120000
DTSTAMP:20260418T164002
CREATED:20251225T050604Z
LAST-MODIFIED:20251231T145621Z
UID:10000239-1770462000-1770465600@montereyskates.com
SUMMARY:Saturday Adult Skating Lesson 11am-12pm (February 7\, 2026)
DESCRIPTION:This lesson is designed for those 13 and over. Whether you’re a beginner finding your balance or a skater looking to improve your skills\, our Saturday Adult Skating Lesson is the perfect place to level up. This hour-long lesson provides guidance\, tips\, and encouragement in a relaxed\, supportive environment. Your instructor will be Scarlett Aamodt\, a certified personal trainer\, skate instructor\, and hockey coach. \nProtective gear (helmet\, knee\, elbow\, and wrist) required and available for sale. You’re welcome to stay and practice during the kids lesson from noon to 1pm\, and your lesson includes admission to the family skate from 1pm-4pm that follows. \nOn the day of the event\, street parking is available on Fairground Road. Enter the Fairgrounds using Gate 5 and look for the Monterey Skates signs\, which will direct you to the King City building. Doors open 10 minutes before a session.
URL:https://montereyskates.com/event/saturday-adult-skating-lesson-11am-12pm-february-7-2026/
LOCATION:Monterey Fairgrounds King City Building\, 2004 Fairground Road\, Monterey\, CA\, 93940\, United States
CATEGORIES:Lesson
ATTACH;FMTTYPE=image/jpeg:https://montereyskates.com/wp-content/uploads/sites/36/2025/12/Saturday-adult-lesson.jpg
ORGANIZER;CN="Monterey Skates":MAILTO:info@montereyskates.com
END:VEVENT
BEGIN:VEVENT
DTSTART;TZID=America/Los_Angeles:20260207T120000
DTEND;TZID=America/Los_Angeles:20260207T130000
DTSTAMP:20260418T164002
CREATED:20251225T050605Z
LAST-MODIFIED:20251231T145621Z
UID:10000240-1770465600-1770469200@montereyskates.com
SUMMARY:Saturday Kids Skating Lesson 12pm-1pm (February 7\, 2026)
DESCRIPTION:This lesson is designed for those 12 and under. Whether you’re a beginner finding your balance or a skater looking to improve your skills\, our first Saturday Skating Lesson is the perfect place to level up. Held right after the Saturday Morning Kids Skate\, this half-hour-long lesson provides guidance\, tips\, and encouragement in a relaxed\, supportive environment. Your instructor will be Scarlett Aamodt\, a certified personal trainer\, skate instructor\, and hockey coach. \nProtective gear (helmet\, knee\, elbow\, and wrist) required and available for sale. The lesson includes admission to the family skate from 1pm-4pm that follows. \nOn the day of the event\, street parking is available on Fairground Road. Enter the Fairgrounds using Gate 5 and look for the Monterey Skates signs\, which will direct you to the King City building. Doors open 10 minutes before a session.
URL:https://montereyskates.com/event/saturday-kids-skating-lesson-12pm-1pm-february-7-2026/
LOCATION:Monterey Fairgrounds King City Building\, 2004 Fairground Road\, Monterey\, CA\, 93940\, United States
CATEGORIES:Lesson
ATTACH;FMTTYPE=image/jpeg:https://montereyskates.com/wp-content/uploads/sites/36/2025/08/Saturday-kids-skate-lesson.jpg
ORGANIZER;CN="Monterey Skates":MAILTO:info@montereyskates.com
END:VEVENT
BEGIN:VEVENT
DTSTART;TZID=America/Los_Angeles:20260207T130000
DTEND;TZID=America/Los_Angeles:20260207T160000
DTSTAMP:20260418T164002
CREATED:20251225T050605Z
LAST-MODIFIED:20251225T060501Z
UID:10000241-1770469200-1770480000@montereyskates.com
SUMMARY:Saturday Afternoon Family Skate 1pm-4pm (February 7\, 2026)
DESCRIPTION:Looking for the perfect weekend outing? Consider our Saturday Afternoon Family Skate\, a fun and relaxed session for all ages! We’ll keep the energy high with upbeat\, mainstream music that everyone can enjoy—from current hits to crowd-pleasing classics. While not as game-packed as our Saturday morning kids session\, we’ll still sprinkle in a few skating games throughout the afternoon to keep things lively. It’s a great time to cruise the floor\, practice your moves\, or just enjoy the atmosphere with friends and family. \n\n🎶 Family-friendly upbeat music — songs that keep all ages rolling\n✨ Colorful DJ lights — creating the perfect weekend vibe\n🍿 Snack bar favorites — fuel up with treats and drinks\n🛞 Skate Mates (trainers) — extra support for new skaters available for rent\n💧 Water bottle refill station — stay hydrated while you roll\n👟 Rental skates in sizes J7 through adult 16 — we’ve got the whole family covered\n🛡️ Helmets and protective gear available for purchase — safety first\, fun always\n\nOn the day of the event\, street parking is available on Fairground Road. Enter the Fairgrounds using Gate 5 and look for the Monterey Skates signs\, which will direct you to the King City building. Doors open 10 minutes before a session.
URL:https://montereyskates.com/event/saturday-afternoon-family-skate-1pm-4pm-february-7-2026/
LOCATION:Monterey Fairgrounds King City Building\, 2004 Fairground Road\, Monterey\, CA\, 93940\, United States
CATEGORIES:Session
ATTACH;FMTTYPE=image/jpeg:https://montereyskates.com/wp-content/uploads/sites/36/2025/05/Saturday-afternoon-family.jpg
ORGANIZER;CN="Monterey Skates":MAILTO:info@montereyskates.com
END:VEVENT
BEGIN:VEVENT
DTSTART;TZID=America/Los_Angeles:20260207T190000
DTEND;TZID=America/Los_Angeles:20260207T220000
DTSTAMP:20260418T164002
CREATED:20251225T050606Z
LAST-MODIFIED:20260122T183033Z
UID:10000242-1770490800-1770501600@montereyskates.com
SUMMARY:Saturday Night High School and College Skate 7pm-10pm (February 7\, 2026)
DESCRIPTION:It’s Saturday night! Why not join us for our Saturday Night High School and College Skate\, a high-energy session perfect for teens\, young adults\, and anyone who loves rolling to the rhythm. With great music\, colorful lights\, and a fun\, welcoming atmosphere\, this session brings the weekend vibes full force. Whether you’re showing off your footwork\, cruising with friends\, or skating for the first time\, everyone is welcome! \nShow a high school or college ID: buy 3 tickets\, get the 4th FREE ($45). Includes skate rental! This deal is available only at the door\, not online! \n\n🎶 Up tempo music — songs to keep you rolling\n✨ Club DJ lights — creating the perfect weekend vibe\n🍿 Snack bar favorites — fuel up with treats and drinks\n🛞 Skate Mates (trainers) — extra support for new skaters available for rent\n💧 Water bottle refill station — stay hydrated while you roll\n👟 Rental skates in sizes J7 through adult 16 — we’ve got the whole family covered\n🛡️ Helmets and protective gear available for purchase — safety first\, fun always\n\nOn the day of the event\, street parking is available on Fairground Road. Enter the Fairgrounds using Gate 5 and look for the Monterey Skates signs\, which will direct you to the King City building. Doors open 10 minutes before a session.
URL:https://montereyskates.com/event/saturday-night-high-school-and-college-skate-7pm-10pm-february-7-2026/
LOCATION:Monterey Fairgrounds King City Building\, 2004 Fairground Road\, Monterey\, CA\, 93940\, United States
CATEGORIES:Session
ATTACH;FMTTYPE=image/jpeg:https://montereyskates.com/wp-content/uploads/sites/36/2025/12/Saturday-night-HS-College.jpg
ORGANIZER;CN="Monterey Skates":MAILTO:info@montereyskates.com
END:VEVENT
END:VCALENDAR